BEGIN:VCALENDAR
VERSION:2.0
PRODID:-//Tělovýchovná jednota Sokol Libiš, z.s. - ECPv6.15.20//NONSGML v1.0//EN
CALSCALE:GREGORIAN
METHOD:PUBLISH
X-ORIGINAL-URL:https://www.sokollibis.cz
X-WR-CALDESC:Akce na Tělovýchovná jednota Sokol Libiš, z.s.
REFRESH-INTERVAL;VALUE=DURATION:PT1H
X-Robots-Tag:noindex
X-PUBLISHED-TTL:PT1H
BEGIN:VTIMEZONE
TZID:Europe/Prague
BEGIN:DAYLIGHT
TZOFFSETFROM:+0100
TZOFFSETTO:+0200
TZNAME:CEST
DTSTART:20230326T010000
END:DAYLIGHT
BEGIN:STANDARD
TZOFFSETFROM:+0200
TZOFFSETTO:+0100
TZNAME:CET
DTSTART:20231029T010000
END:STANDARD
BEGIN:DAYLIGHT
TZOFFSETFROM:+0100
TZOFFSETTO:+0200
TZNAME:CEST
DTSTART:20240331T010000
END:DAYLIGHT
BEGIN:STANDARD
TZOFFSETFROM:+0200
TZOFFSETTO:+0100
TZNAME:CET
DTSTART:20241027T010000
END:STANDARD
BEGIN:DAYLIGHT
TZOFFSETFROM:+0100
TZOFFSETTO:+0200
TZNAME:CEST
DTSTART:20250330T010000
END:DAYLIGHT
BEGIN:STANDARD
TZOFFSETFROM:+0200
TZOFFSETTO:+0100
TZNAME:CET
DTSTART:20251026T010000
END:STANDARD
END:VTIMEZONE
BEGIN:VEVENT
DTSTART;TZID=Europe/Prague:20241005T143000
DTEND;TZID=Europe/Prague:20241005T143000
DTSTAMP:20260423T215205
CREATED:20240715T082244Z
LAST-MODIFIED:20240715T082400Z
UID:12084-1728138600-1728138600@www.sokollibis.cz
SUMMARY:TJ Sokol Libiš "B" - TJ Sokol Tišice
DESCRIPTION:Sportfotbal okresní přebor muži
URL:https://www.sokollibis.cz/kalendar/telovychovna-jednota-sokol-libis-b-z-s-telovychovna-jednota-sokol-tisice-z-s/
END:VEVENT
BEGIN:VEVENT
DTSTART;TZID=Europe/Prague:20241005T101500
DTEND;TZID=Europe/Prague:20241005T101500
DTSTAMP:20260423T215205
CREATED:20240715T081728Z
LAST-MODIFIED:20240715T081841Z
UID:12052-1728123300-1728123300@www.sokollibis.cz
SUMMARY:TJ Sokol Libiš "A" - SK Rakovník
DESCRIPTION:HDT.cz KRAJSKÝ PŘEBOR (5. liga)
URL:https://www.sokollibis.cz/kalendar/tj-sokol-libis-sk-rakovnik/
END:VEVENT
BEGIN:VEVENT
DTSTART;TZID=Europe/Prague:20240929T130000
DTEND;TZID=Europe/Prague:20240929T130000
DTSTAMP:20260423T215205
CREATED:20240807T091011Z
LAST-MODIFIED:20240807T091730Z
UID:12170-1727614800-1727614800@www.sokollibis.cz
SUMMARY:TJ Sokol Libiš st. žáci - TJ Slovan Horní Beřkovice
DESCRIPTION:Okresní přebor skupina  starší žáci
URL:https://www.sokollibis.cz/kalendar/telovychovna-jednota-sokol-libis-z-s-tj-slovan-horni-berkovice-z-s-3/
END:VEVENT
BEGIN:VEVENT
DTSTART;TZID=Europe/Prague:20240928T100000
DTEND;TZID=Europe/Prague:20240928T100000
DTSTAMP:20260423T215205
CREATED:20240715T082022Z
LAST-MODIFIED:20240715T085613Z
UID:12069-1727517600-1727517600@www.sokollibis.cz
SUMMARY:TJ Sokol Libiš dorost - SK Senomaty
DESCRIPTION:1.A dorost U19 sk.A čtyřročník
URL:https://www.sokollibis.cz/kalendar/tj-sokol-libis-sk-senomaty/
END:VEVENT
BEGIN:VEVENT
DTSTART;TZID=Europe/Prague:20240924T170000
DTEND;TZID=Europe/Prague:20240924T170000
DTSTAMP:20260423T215205
CREATED:20240807T091011Z
LAST-MODIFIED:20240807T091805Z
UID:12169-1727197200-1727197200@www.sokollibis.cz
SUMMARY:TJ Sokol Libiš st. žáci - TJ Sokol Tišice
DESCRIPTION:Okresní přebor skupina  starší žáci
URL:https://www.sokollibis.cz/kalendar/telovychovna-jednota-sokol-libis-z-s-telovychovna-jednota-sokol-tisice-z-s-2/
END:VEVENT
BEGIN:VEVENT
DTSTART;TZID=Europe/Prague:20240921T143000
DTEND;TZID=Europe/Prague:20240921T143000
DTSTAMP:20260423T215205
CREATED:20240715T082244Z
LAST-MODIFIED:20240715T082352Z
UID:12083-1726929000-1726929000@www.sokollibis.cz
SUMMARY:TJ Sokol Libiš "B" - FK Pšovka Mělník "B"
DESCRIPTION:Sportfotbal okresní přebor muži
URL:https://www.sokollibis.cz/kalendar/telovychovna-jednota-sokol-libis-b-z-s-fk-psovka-melnik-b/
END:VEVENT
BEGIN:VEVENT
DTSTART;TZID=Europe/Prague:20240921T101500
DTEND;TZID=Europe/Prague:20240921T101500
DTSTAMP:20260423T215205
CREATED:20240715T081728Z
LAST-MODIFIED:20240715T081832Z
UID:12051-1726913700-1726913700@www.sokollibis.cz
SUMMARY:TJ Sokol Libiš "A" - SK Posázavan Poříčí n/S.
DESCRIPTION:HDT.cz KRAJSKÝ PŘEBOR (5. liga)
URL:https://www.sokollibis.cz/kalendar/tj-sokol-libis-sk-posazavan-porici-n-s-2/
END:VEVENT
BEGIN:VEVENT
DTSTART;TZID=Europe/Prague:20240915T130000
DTEND;TZID=Europe/Prague:20240915T130000
DTSTAMP:20260423T215205
CREATED:20240807T091010Z
LAST-MODIFIED:20240807T092035Z
UID:12168-1726405200-1726405200@www.sokollibis.cz
SUMMARY:TJ Sokol Libiš st. žáci - TJ Záryby
DESCRIPTION:Okresní přebor skupina  starší žáci
URL:https://www.sokollibis.cz/kalendar/telovychovna-jednota-sokol-libis-z-s-tj-zaryby-z-s/
END:VEVENT
BEGIN:VEVENT
DTSTART;TZID=Europe/Prague:20240914T100000
DTEND;TZID=Europe/Prague:20240914T100000
DTSTAMP:20260423T215205
CREATED:20240715T082022Z
LAST-MODIFIED:20240715T082110Z
UID:12068-1726308000-1726308000@www.sokollibis.cz
SUMMARY:TJ Sokol Libiš dorost - FK Hředle
DESCRIPTION:1.A dorost U19 sk.A čtyřročník
URL:https://www.sokollibis.cz/kalendar/tj-sokol-libis-fk-hredle/
END:VEVENT
BEGIN:VEVENT
DTSTART;TZID=Europe/Prague:20240907T143000
DTEND;TZID=Europe/Prague:20240907T143000
DTSTAMP:20260423T215205
CREATED:20240715T082243Z
LAST-MODIFIED:20240715T082341Z
UID:12082-1725719400-1725719400@www.sokollibis.cz
SUMMARY:TJ Sokol Libiš "B" - SK Mšeno
DESCRIPTION:Sportfotbal okresní přebor muži
URL:https://www.sokollibis.cz/kalendar/telovychovna-jednota-sokol-libis-b-z-s-sk-mseno-a-z-s/
END:VEVENT
BEGIN:VEVENT
DTSTART;TZID=Europe/Prague:20240907T101500
DTEND;TZID=Europe/Prague:20240907T101500
DTSTAMP:20260423T215205
CREATED:20240715T081728Z
LAST-MODIFIED:20240715T081824Z
UID:12050-1725704100-1725704100@www.sokollibis.cz
SUMMARY:TJ Sokol Libiš "A" - SK Rapid Psáry
DESCRIPTION:HDT.cz KRAJSKÝ PŘEBOR (5. liga)
URL:https://www.sokollibis.cz/kalendar/tj-sokol-libis-sk-rapid-psary/
END:VEVENT
BEGIN:VEVENT
DTSTART;TZID=Europe/Prague:20240901T130000
DTEND;TZID=Europe/Prague:20240901T130000
DTSTAMP:20260423T215205
CREATED:20240807T091010Z
LAST-MODIFIED:20240807T091826Z
UID:12167-1725195600-1725195600@www.sokollibis.cz
SUMMARY:TJ Sokol Libiš st. žáci - STM FK Vysoká/SK Mšeno
DESCRIPTION:Okresní přebor skupina  starší žáci
URL:https://www.sokollibis.cz/kalendar/telovychovna-jednota-sokol-libis-z-s-stm-fk-vysoka-sk-mseno/
END:VEVENT
BEGIN:VEVENT
DTSTART;TZID=Europe/Prague:20240831T140000
DTEND;TZID=Europe/Prague:20240831T220000
DTSTAMP:20260423T215205
CREATED:20240725T081147Z
LAST-MODIFIED:20240725T081151Z
UID:12119-1725112800-1725141600@www.sokollibis.cz
SUMMARY:Sportovně zábavný den
DESCRIPTION:Turnaje Tenis\, Nohejbal\, Beachvolejbal\, zábavné atrakce\, večer kapela Largo
URL:https://www.sokollibis.cz/kalendar/sportovne-zabavny-den/
ATTACH;FMTTYPE=image/jpeg:https://www.sokollibis.cz/wp-content/uploads/2024/07/sportovni_den_A2_2024-scaled.jpg
END:VEVENT
BEGIN:VEVENT
DTSTART;TZID=Europe/Prague:20240831T100000
DTEND;TZID=Europe/Prague:20240831T100000
DTSTAMP:20260423T215206
CREATED:20240715T082022Z
LAST-MODIFIED:20240715T085625Z
UID:12067-1725098400-1725098400@www.sokollibis.cz
SUMMARY:TJ Sokol Libiš dorost - FK Komárov
DESCRIPTION:1.A dorost U19 sk.A čtyřročník
URL:https://www.sokollibis.cz/kalendar/tj-sokol-libis-fk-komarov/
END:VEVENT
BEGIN:VEVENT
DTSTART;TZID=Europe/Prague:20240824T143000
DTEND;TZID=Europe/Prague:20240824T143000
DTSTAMP:20260423T215206
CREATED:20240715T082243Z
LAST-MODIFIED:20240715T082332Z
UID:12081-1724509800-1724509800@www.sokollibis.cz
SUMMARY:TJ Sokol Libiš "B" - TJ Vltavan Chvatěruby
DESCRIPTION:Sportfotbal okresní přebor muži
URL:https://www.sokollibis.cz/kalendar/telovychovna-jednota-sokol-libis-b-z-s-telovychovna-jednota-vltavan-chvateruby-z-s/
END:VEVENT
BEGIN:VEVENT
DTSTART;TZID=Europe/Prague:20240824T101500
DTEND;TZID=Europe/Prague:20240824T101500
DTSTAMP:20260423T215206
CREATED:20240715T081727Z
LAST-MODIFIED:20240715T081812Z
UID:12049-1724494500-1724494500@www.sokollibis.cz
SUMMARY:TJ Sokol Libiš "A" - AFK Tuchlovice
DESCRIPTION:HDT.cz KRAJSKÝ PŘEBOR (5. liga)
URL:https://www.sokollibis.cz/kalendar/tj-sokol-libis-afk-tuchlovice/
END:VEVENT
BEGIN:VEVENT
DTSTART;TZID=Europe/Prague:20240817T100000
DTEND;TZID=Europe/Prague:20240817T100000
DTSTAMP:20260423T215206
CREATED:20240715T082021Z
LAST-MODIFIED:20240715T082054Z
UID:12066-1723888800-1723888800@www.sokollibis.cz
SUMMARY:TJ Sokol Libiš dorost - TJ Slovan Velvary
DESCRIPTION:1.A dorost U19 sk.A čtyřročník
URL:https://www.sokollibis.cz/kalendar/tj-sokol-libis-tj-slovan-velvary/
END:VEVENT
BEGIN:VEVENT
DTSTART;TZID=Europe/Prague:20240810T101500
DTEND;TZID=Europe/Prague:20240810T101500
DTSTAMP:20260423T215206
CREATED:20240715T081727Z
LAST-MODIFIED:20240715T085703Z
UID:12048-1723284900-1723284900@www.sokollibis.cz
SUMMARY:TJ Sokol Libiš "A" - TJ Tatran Sedlčany
DESCRIPTION:HDT.cz KRAJSKÝ PŘEBOR (5. liga)
URL:https://www.sokollibis.cz/kalendar/tj-sokol-libis-tj-tatran-sedlcany/
END:VEVENT
BEGIN:VEVENT
DTSTART;TZID=Europe/Prague:20240803T100000
DTEND;TZID=Europe/Prague:20240803T120000
DTSTAMP:20260423T215206
CREATED:20240718T120012Z
LAST-MODIFIED:20240718T120015Z
UID:12115-1722679200-1722686400@www.sokollibis.cz
SUMMARY:TJ Sokol Libiš "A" - V. Žižkov
DESCRIPTION:Přípravné utkání.
URL:https://www.sokollibis.cz/kalendar/tj-sokol-libis-a-v-zizkov/
LOCATION:TJ Sokol Libiš – tráva\, Školní 492\, Libiš\, 27711\, Česká republika
END:VEVENT
BEGIN:VEVENT
DTSTART;TZID=Europe/Prague:20240725T180000
DTEND;TZID=Europe/Prague:20240725T200000
DTSTAMP:20260423T215206
CREATED:20240718T115721Z
LAST-MODIFIED:20240718T115724Z
UID:12113-1721930400-1721937600@www.sokollibis.cz
SUMMARY:TJ Sokol Libiš "A" - Xaverov
DESCRIPTION:Přípravné utkání.
URL:https://www.sokollibis.cz/kalendar/tj-sokol-libis-a-xaverov/
LOCATION:TJ Sokol Libiš – tráva\, Školní 492\, Libiš\, 27711\, Česká republika
END:VEVENT
BEGIN:VEVENT
DTSTART;TZID=Europe/Prague:20240720T100000
DTEND;TZID=Europe/Prague:20240720T120000
DTSTAMP:20260423T215206
CREATED:20240718T115632Z
LAST-MODIFIED:20240718T115636Z
UID:12111-1721469600-1721476800@www.sokollibis.cz
SUMMARY:TJ Sokol Libiš "A" - FK Brandýs nad Labem
DESCRIPTION:Přípravné utkání.
URL:https://www.sokollibis.cz/kalendar/tj-sokol-libis-a-fk-brandys-nad-labem/
LOCATION:TJ Sokol Libiš – tráva\, Školní 492\, Libiš\, 27711\, Česká republika
END:VEVENT
BEGIN:VEVENT
DTSTART;TZID=Europe/Prague:20240720T000000
DTEND;TZID=Europe/Prague:20240720T235959
DTSTAMP:20260423T215206
CREATED:20240315T104138Z
LAST-MODIFIED:20240315T104142Z
UID:11449-1721433600-1721519999@www.sokollibis.cz
SUMMARY:Libišohraní
DESCRIPTION:v prostoru u hospody vystoupí 3 kapely
URL:https://www.sokollibis.cz/kalendar/libisohrani/
END:VEVENT
BEGIN:VEVENT
DTSTART;TZID=Europe/Prague:20240717T180000
DTEND;TZID=Europe/Prague:20240717T200000
DTSTAMP:20260423T215206
CREATED:20240718T120304Z
LAST-MODIFIED:20240718T120307Z
UID:12117-1721239200-1721246400@www.sokollibis.cz
SUMMARY:TJ Sokol Libiš "A" - Dobrovice
DESCRIPTION:Přípravné utkání.
URL:https://www.sokollibis.cz/kalendar/tj-sokol-libis-a-dobrovice/
LOCATION:TJ Sokol Libiš – tráva\, Školní 492\, Libiš\, 27711\, Česká republika
END:VEVENT
BEGIN:VEVENT
DTSTART;TZID=Europe/Prague:20240629T100000
DTEND;TZID=Europe/Prague:20240701T170000
DTSTAMP:20260423T215206
CREATED:20240520T092504Z
LAST-MODIFIED:20240520T092512Z
UID:11736-1719655200-1719853200@www.sokollibis.cz
SUMMARY:Hasiči tábor
DESCRIPTION:u hřiště a na sále SOKOLa
URL:https://www.sokollibis.cz/kalendar/hasici-tabor/
END:VEVENT
BEGIN:VEVENT
DTSTART;TZID=Europe/Prague:20240615T190000
DTEND;TZID=Europe/Prague:20240615T235900
DTSTAMP:20260423T215206
CREATED:20240131T121839Z
LAST-MODIFIED:20240315T103633Z
UID:11247-1718478000-1718495940@www.sokollibis.cz
SUMMARY:"Hrajeme KABÁT"
DESCRIPTION:na hřišti vystoupí hudební skupina „Hrajeme KABÁT“(nově LEDprojekce a další překvapení)
URL:https://www.sokollibis.cz/kalendar/hrajeme-kabat/
ATTACH;FMTTYPE=image/jpeg:https://www.sokollibis.cz/wp-content/uploads/2024/01/Hrajeme-kabat.jpg
END:VEVENT
BEGIN:VEVENT
DTSTART;TZID=Europe/Prague:20240615T100000
DTEND;TZID=Europe/Prague:20240615T100000
DTSTAMP:20260423T215206
CREATED:20240110T113719Z
LAST-MODIFIED:20240110T113719Z
UID:11084-1718445600-1718445600@www.sokollibis.cz
SUMMARY:TJ Sokol Libiš : Roztoky + Libčice
DESCRIPTION:1. A třída dorostu U19 sk. B
URL:https://www.sokollibis.cz/kalendar/tj-sokol-libis-roztoky-libcice/
END:VEVENT
BEGIN:VEVENT
DTSTART;TZID=Europe/Prague:20240608T143000
DTEND;TZID=Europe/Prague:20240608T143000
DTSTAMP:20260423T215206
CREATED:20240117T122953Z
LAST-MODIFIED:20240807T091920Z
UID:11131-1717857000-1717857000@www.sokollibis.cz
SUMMARY:TJ Sokol Libiš st. žáci - FK Pšovka Mělník
DESCRIPTION:SportFotbal Okresní přebor muži
URL:https://www.sokollibis.cz/kalendar/telovychovna-jednota-sokol-libis-z-s-fk-psovka-melnik/
END:VEVENT
BEGIN:VEVENT
DTSTART;TZID=Europe/Prague:20240608T101500
DTEND;TZID=Europe/Prague:20240608T101500
DTSTAMP:20260423T215206
CREATED:20240110T095615Z
LAST-MODIFIED:20240110T095615Z
UID:11069-1717841700-1717841700@www.sokollibis.cz
SUMMARY:TJ Sokol Libiš : Sparta Kutná Hora
DESCRIPTION:HDT.cz KRAJSKÝ PŘEBOR muži
URL:https://www.sokollibis.cz/kalendar/tj-sokol-libis-sparta-kutna-hora/
END:VEVENT
BEGIN:VEVENT
DTSTART;TZID=Europe/Prague:20240602T160000
DTEND;TZID=Europe/Prague:20240602T173000
DTSTAMP:20260423T215206
CREATED:20240502T072650Z
LAST-MODIFIED:20240807T091948Z
UID:11666-1717344000-1717349400@www.sokollibis.cz
SUMMARY:TJ Sokol Libiš st. žáci - AFK Eletis Lužec
DESCRIPTION:Starší žáci skupana o umístění 7-12
URL:https://www.sokollibis.cz/kalendar/telovychovna-jednota-sokol-libis-z-s-afk-eletis-luzec-z-s/
END:VEVENT
BEGIN:VEVENT
DTSTART;TZID=Europe/Prague:20240601T140000
DTEND;TZID=Europe/Prague:20240601T170000
DTSTAMP:20260423T215206
CREATED:20240315T103925Z
LAST-MODIFIED:20240522T081442Z
UID:11447-1717250400-1717261200@www.sokollibis.cz
SUMMARY:Dětský den
DESCRIPTION:
URL:https://www.sokollibis.cz/kalendar/detsky-den-2/
ATTACH;FMTTYPE=image/jpeg:https://www.sokollibis.cz/wp-content/uploads/2024/05/Detsky_den_Libis_A2_nasirku_2024-rotated.jpg
END:VEVENT
END:VCALENDAR