BEGIN:VCALENDAR
VERSION:2.0
PRODID:-//Tělovýchovná jednota Sokol Libiš, z.s. - ECPv6.15.20//NONSGML v1.0//EN
CALSCALE:GREGORIAN
METHOD:PUBLISH
X-ORIGINAL-URL:https://www.sokollibis.cz
X-WR-CALDESC:Akce na Tělovýchovná jednota Sokol Libiš, z.s.
REFRESH-INTERVAL;VALUE=DURATION:PT1H
X-Robots-Tag:noindex
X-PUBLISHED-TTL:PT1H
BEGIN:VTIMEZONE
TZID:Europe/Prague
BEGIN:DAYLIGHT
TZOFFSETFROM:+0100
TZOFFSETTO:+0200
TZNAME:CEST
DTSTART:20220327T010000
END:DAYLIGHT
BEGIN:STANDARD
TZOFFSETFROM:+0200
TZOFFSETTO:+0100
TZNAME:CET
DTSTART:20221030T010000
END:STANDARD
BEGIN:DAYLIGHT
TZOFFSETFROM:+0100
TZOFFSETTO:+0200
TZNAME:CEST
DTSTART:20230326T010000
END:DAYLIGHT
BEGIN:STANDARD
TZOFFSETFROM:+0200
TZOFFSETTO:+0100
TZNAME:CET
DTSTART:20231029T010000
END:STANDARD
BEGIN:DAYLIGHT
TZOFFSETFROM:+0100
TZOFFSETTO:+0200
TZNAME:CEST
DTSTART:20240331T010000
END:DAYLIGHT
BEGIN:STANDARD
TZOFFSETFROM:+0200
TZOFFSETTO:+0100
TZNAME:CET
DTSTART:20241027T010000
END:STANDARD
BEGIN:DAYLIGHT
TZOFFSETFROM:+0100
TZOFFSETTO:+0200
TZNAME:CEST
DTSTART:20250330T010000
END:DAYLIGHT
BEGIN:STANDARD
TZOFFSETFROM:+0200
TZOFFSETTO:+0100
TZNAME:CET
DTSTART:20251026T010000
END:STANDARD
END:VTIMEZONE
BEGIN:VEVENT
DTSTART;TZID=Europe/Prague:20240326T100000
DTEND;TZID=Europe/Prague:20240326T180000
DTSTAMP:20260423T233315
CREATED:20240315T102901Z
LAST-MODIFIED:20240315T102904Z
UID:11440-1711447200-1711476000@www.sokollibis.cz
SUMMARY:Velikonoční výstava a JARMARK
DESCRIPTION:Na sále sokolovny (příprava od pondělí)
URL:https://www.sokollibis.cz/kalendar/velikonocni-vystava-a-jarmark/
ATTACH;FMTTYPE=image/jpeg:https://www.sokollibis.cz/wp-content/uploads/2024/03/velikonocni-jarmark-2024o.jpg
END:VEVENT
BEGIN:VEVENT
DTSTART;TZID=Europe/Prague:20240324T150000
DTEND;TZID=Europe/Prague:20240324T180000
DTSTAMP:20260423T233315
CREATED:20240315T102244Z
LAST-MODIFIED:20240315T102248Z
UID:11437-1711292400-1711303200@www.sokollibis.cz
SUMMARY:Retročaje s bonusem
DESCRIPTION:Sál sokolovny
URL:https://www.sokollibis.cz/kalendar/retrocaje-s-bonusem/
ATTACH;FMTTYPE=image/jpeg:https://www.sokollibis.cz/wp-content/uploads/2023/10/Caje-obec-n.jpg
END:VEVENT
BEGIN:VEVENT
DTSTART;TZID=Europe/Prague:20240324T090000
DTEND;TZID=Europe/Prague:20240324T090000
DTSTAMP:20260423T233315
CREATED:20240110T114122Z
LAST-MODIFIED:20240110T114122Z
UID:11087-1711270800-1711270800@www.sokollibis.cz
SUMMARY:Tělovýchovná jednota Sokol Libiš\, z.s. : TJ Sokol Měšice z.s.
DESCRIPTION:starší žáci OP sk.A
URL:https://www.sokollibis.cz/kalendar/telovychovna-jednota-sokol-libis-z-s-tj-sokol-mesice-z-s/
END:VEVENT
BEGIN:VEVENT
DTSTART;TZID=Europe/Prague:20240323T183000
DTEND;TZID=Europe/Prague:20240323T203000
DTSTAMP:20260423T233315
CREATED:20240315T101709Z
LAST-MODIFIED:20240315T102524Z
UID:11433-1711218600-1711225800@www.sokollibis.cz
SUMMARY:Divadelní představení - Cech počestných paniček Windsorských
DESCRIPTION:Sál sokolovny.
URL:https://www.sokollibis.cz/kalendar/divadelni-predstaveni/
ATTACH;FMTTYPE=image/jpeg:https://www.sokollibis.cz/wp-content/uploads/2024/03/Divadlo-_24_03_23o.jpg
END:VEVENT
BEGIN:VEVENT
DTSTART;TZID=Europe/Prague:20240323T143000
DTEND;TZID=Europe/Prague:20240323T143000
DTSTAMP:20260423T233315
CREATED:20240117T122933Z
LAST-MODIFIED:20240117T122933Z
UID:11120-1711204200-1711204200@www.sokollibis.cz
SUMMARY:Tělovýchovná jednota Sokol Libiš\, z.s. : Tělocvičná jednota Sokol Dolní Beřkovice
DESCRIPTION:SportFotbal Okresní přebor muži
URL:https://www.sokollibis.cz/kalendar/telovychovna-jednota-sokol-libis-z-s-telocvicna-jednota-sokol-dolni-berkovice/
END:VEVENT
BEGIN:VEVENT
DTSTART;TZID=Europe/Prague:20240323T101500
DTEND;TZID=Europe/Prague:20240323T101500
DTSTAMP:20260423T233315
CREATED:20240110T095610Z
LAST-MODIFIED:20240110T095610Z
UID:11064-1711188900-1711188900@www.sokollibis.cz
SUMMARY:TJ Sokol Libiš : SK Posázavan Poříčí n / S
DESCRIPTION:HDT.cz KRAJSKÝ PŘEBOR muži
URL:https://www.sokollibis.cz/kalendar/tj-sokol-libis-sk-posazavan-porici-n-s/
END:VEVENT
BEGIN:VEVENT
DTSTART;TZID=Europe/Prague:20240315T200000
DTEND;TZID=Europe/Prague:20240316T020000
DTSTAMP:20260423T233315
CREATED:20231207T142412Z
LAST-MODIFIED:20240312T144218Z
UID:10967-1710532800-1710554400@www.sokollibis.cz
SUMMARY:Ples HASIČŮ
DESCRIPTION:sál sokolovny (příprava od čtvrtka)
URL:https://www.sokollibis.cz/kalendar/ples-hasicu/
END:VEVENT
BEGIN:VEVENT
DTSTART;TZID=Europe/Prague:20240309T101500
DTEND;TZID=Europe/Prague:20240309T101500
DTSTAMP:20260423T233315
CREATED:20240110T095610Z
LAST-MODIFIED:20240110T095610Z
UID:11063-1709979300-1709979300@www.sokollibis.cz
SUMMARY:TJ Sokol Libiš : SK Poříčany
DESCRIPTION:HDT.cz KRAJSKÝ PŘEBOR muži
URL:https://www.sokollibis.cz/kalendar/tj-sokol-libis-sk-poricany/
END:VEVENT
BEGIN:VEVENT
DTSTART;TZID=Europe/Prague:20240307T170000
DTEND;TZID=Europe/Prague:20240307T190000
DTSTAMP:20260423T233315
CREATED:20240131T121639Z
LAST-MODIFIED:20240304T083219Z
UID:11245-1709830800-1709838000@www.sokollibis.cz
SUMMARY:oslavy MDŽ - vystoupí Zmožek
DESCRIPTION:sál sokolovny
URL:https://www.sokollibis.cz/kalendar/oslavy-mdz-vystoupi-zhmozek/
ATTACH;FMTTYPE=image/jpeg:https://www.sokollibis.cz/wp-content/uploads/2024/01/marcel-zmozek.jpg
END:VEVENT
BEGIN:VEVENT
DTSTART;TZID=Europe/Prague:20240302T140000
DTEND;TZID=Europe/Prague:20240302T220000
DTSTAMP:20260423T233315
CREATED:20240131T121422Z
LAST-MODIFIED:20240131T121425Z
UID:11243-1709388000-1709416800@www.sokollibis.cz
SUMMARY:soukromá akce - sál sokolovny
DESCRIPTION:
URL:https://www.sokollibis.cz/kalendar/soukroma-akce-sal-sokolovny/
END:VEVENT
BEGIN:VEVENT
DTSTART;TZID=Europe/Prague:20240301T183000
DTEND;TZID=Europe/Prague:20240301T203000
DTSTAMP:20260423T233315
CREATED:20240104T154740Z
LAST-MODIFIED:20240104T154744Z
UID:11032-1709317800-1709325000@www.sokollibis.cz
SUMMARY:Stolní tenis
DESCRIPTION:TJ Sokol Libiš – TJ Neratovice G(sál sokolovny)
URL:https://www.sokollibis.cz/kalendar/stolni-tenis-3/
END:VEVENT
BEGIN:VEVENT
DTSTART;TZID=Europe/Prague:20240227T183000
DTEND;TZID=Europe/Prague:20240227T223000
DTSTAMP:20260423T233315
CREATED:20240109T092029Z
LAST-MODIFIED:20240110T091214Z
UID:11042-1709058600-1709073000@www.sokollibis.cz
SUMMARY:Valná hromada TJ Sokol Libiš
DESCRIPTION:Pro všechny členy TJ Sokol Libiš – účast vítána
URL:https://www.sokollibis.cz/kalendar/valna-hromada-sokol-libis/
END:VEVENT
BEGIN:VEVENT
DTSTART;TZID=Europe/Prague:20240225T150000
DTEND;TZID=Europe/Prague:20240225T180000
DTSTAMP:20260423T233315
CREATED:20240104T152723Z
LAST-MODIFIED:20240104T152728Z
UID:11020-1708873200-1708884000@www.sokollibis.cz
SUMMARY:Retro čaje
DESCRIPTION:
URL:https://www.sokollibis.cz/kalendar/retro-caje-11/
ATTACH;FMTTYPE=image/jpeg:https://www.sokollibis.cz/wp-content/uploads/2023/10/Caje-obec-n.jpg
END:VEVENT
BEGIN:VEVENT
DTSTART;TZID=Europe/Prague:20240217T200000
DTEND;TZID=Europe/Prague:20240217T200000
DTSTAMP:20260423T233315
CREATED:20240123T055153Z
LAST-MODIFIED:20240129T190251Z
UID:11199-1708200000-1708200000@www.sokollibis.cz
SUMMARY:Ples sportovců
DESCRIPTION:TJ Sokol Libiš vás ve spolupráci s obcí Libiš zve na ples sportovců 2024 s bohatou tombolou. Ten se uskuteční v sobotu 17. února 2024 od 20:00 v libišské sokolovně. \n\n\n\nK tanci hraje Karyna band Neratovice. Vstupné je 200 korun. Prodej vstupenek v sokolovně – p. Havel: 602 116 687 a pí. Trédlová: 728 817 888.
URL:https://www.sokollibis.cz/kalendar/ples-sportovcu-2/
ATTACH;FMTTYPE=image/png:https://www.sokollibis.cz/wp-content/uploads/2024/01/Plakat-ples-Sportovcu-Libis_2024.png
END:VEVENT
BEGIN:VEVENT
DTSTART;TZID=Europe/Prague:20240210T090000
DTEND;TZID=Europe/Prague:20240210T190000
DTSTAMP:20260423T233315
CREATED:20231207T142243Z
LAST-MODIFIED:20231207T143345Z
UID:10965-1707555600-1707591600@www.sokollibis.cz
SUMMARY:Uzlovaná-děti
DESCRIPTION:akce Hasičů na sále sokolovny (příprava od pátku po mistráku pinpongu)
URL:https://www.sokollibis.cz/kalendar/uzlovana-deti/
END:VEVENT
BEGIN:VEVENT
DTSTART;TZID=Europe/Prague:20240209T183000
DTEND;TZID=Europe/Prague:20240209T203000
DTSTAMP:20260423T233315
CREATED:20240104T154517Z
LAST-MODIFIED:20240104T154520Z
UID:11030-1707503400-1707510600@www.sokollibis.cz
SUMMARY:Stolní tenis
DESCRIPTION:TJ Sokol Libiš – TTC Dřínov C(sál sokolovny)
URL:https://www.sokollibis.cz/kalendar/stolni-tenis-2/
END:VEVENT
BEGIN:VEVENT
DTSTART;TZID=Europe/Prague:20240203T140000
DTEND;TZID=Europe/Prague:20240203T170000
DTSTAMP:20260423T233315
CREATED:20240104T153225Z
LAST-MODIFIED:20240104T153229Z
UID:11022-1706968800-1706979600@www.sokollibis.cz
SUMMARY:dětský KARNEVAL
DESCRIPTION:Sál sokolovny
URL:https://www.sokollibis.cz/kalendar/detsky-karneval-2/
ATTACH;FMTTYPE=image/jpeg:https://www.sokollibis.cz/wp-content/uploads/2024/01/karneval-2023.jpg
END:VEVENT
BEGIN:VEVENT
DTSTART;TZID=Europe/Prague:20240128T150000
DTEND;TZID=Europe/Prague:20240128T180000
DTSTAMP:20260423T233315
CREATED:20240104T152542Z
LAST-MODIFIED:20240104T152546Z
UID:11018-1706454000-1706464800@www.sokollibis.cz
SUMMARY:Retro čaje
DESCRIPTION:
URL:https://www.sokollibis.cz/kalendar/retro-caje-10/
ATTACH;FMTTYPE=image/jpeg:https://www.sokollibis.cz/wp-content/uploads/2023/10/Caje-obec-n.jpg
END:VEVENT
BEGIN:VEVENT
DTSTART;TZID=Europe/Prague:20240120T170000
DTEND;TZID=Europe/Prague:20240120T190000
DTSTAMP:20260423T233315
CREATED:20231207T142031Z
LAST-MODIFIED:20240110T091522Z
UID:10963-1705770000-1705777200@www.sokollibis.cz
SUMMARY:Valná hromada hasičů
DESCRIPTION:sál Sokolovny
URL:https://www.sokollibis.cz/kalendar/valna-hromada-hasicu/
ATTACH;FMTTYPE=image/jpeg:https://www.sokollibis.cz/wp-content/uploads/2023/12/418549072_887363236722559_1947342718968083537_n.jpg
END:VEVENT
BEGIN:VEVENT
DTSTART;TZID=Europe/Prague:20240119T200000
DTEND;TZID=Europe/Prague:20240120T020000
DTSTAMP:20260423T233315
CREATED:20231124T212013Z
LAST-MODIFIED:20231124T212016Z
UID:10924-1705694400-1705716000@www.sokollibis.cz
SUMMARY:II.Ples Spolku Libišských žen
DESCRIPTION:
URL:https://www.sokollibis.cz/kalendar/ii-ples-spolku-libisskych-zen/
ATTACH;FMTTYPE=image/png:https://www.sokollibis.cz/wp-content/uploads/2023/10/plakat_ples_A2_2024o.png
END:VEVENT
BEGIN:VEVENT
DTSTART;TZID=Europe/Prague:20240112T183000
DTEND;TZID=Europe/Prague:20240112T203000
DTSTAMP:20260423T233315
CREATED:20240104T154148Z
LAST-MODIFIED:20240104T154152Z
UID:11028-1705084200-1705091400@www.sokollibis.cz
SUMMARY:Stolní tenis
DESCRIPTION:TJ Sokol Libiš – TJ Start Mlékojedy B-ZD (sál tělocvičny)
URL:https://www.sokollibis.cz/kalendar/stolni-tenis/
END:VEVENT
BEGIN:VEVENT
DTSTART;TZID=Europe/Prague:20231207T170000
DTEND;TZID=Europe/Prague:20231207T190000
DTSTAMP:20260423T233315
CREATED:20231011T064746Z
LAST-MODIFIED:20231128T094734Z
UID:10681-1701968400-1701975600@www.sokollibis.cz
SUMMARY:Magda Malá
DESCRIPTION:představení v sokolovně
URL:https://www.sokollibis.cz/kalendar/magda-mala/
ATTACH;FMTTYPE=image/jpeg:https://www.sokollibis.cz/wp-content/uploads/2023/10/vanocni_koncert-2023o.jpg
END:VEVENT
BEGIN:VEVENT
DTSTART;TZID=Europe/Prague:20231201T170000
DTEND;TZID=Europe/Prague:20231201T170000
DTSTAMP:20260423T233315
CREATED:20231124T211500Z
LAST-MODIFIED:20231124T211505Z
UID:10922-1701450000-1701450000@www.sokollibis.cz
SUMMARY:Rozsvícení Vánočního stromečku před sokolovnou
DESCRIPTION:
URL:https://www.sokollibis.cz/kalendar/rozsviceni-vanocniho-stromecku-pred-sokolovnou/
ATTACH;FMTTYPE=image/png:https://www.sokollibis.cz/wp-content/uploads/2023/10/Rozsv.stromecku-2023o.png
END:VEVENT
BEGIN:VEVENT
DTSTART;TZID=Europe/Prague:20231126T150000
DTEND;TZID=Europe/Prague:20231126T180000
DTSTAMP:20260423T233315
CREATED:20231011T070421Z
LAST-MODIFIED:20231011T070424Z
UID:10689-1701010800-1701021600@www.sokollibis.cz
SUMMARY:Retro čaje
DESCRIPTION:
URL:https://www.sokollibis.cz/kalendar/retro-caje-9/
ATTACH;FMTTYPE=image/jpeg:https://www.sokollibis.cz/wp-content/uploads/2023/10/Caje-obec-n.jpg
END:VEVENT
BEGIN:VEVENT
DTSTART;TZID=Europe/Prague:20231125T080000
DTEND;TZID=Europe/Prague:20231125T200000
DTSTAMP:20260423T233315
CREATED:20231011T065729Z
LAST-MODIFIED:20231011T065733Z
UID:10683-1700899200-1700942400@www.sokollibis.cz
SUMMARY:Hasičský čtyřboj
DESCRIPTION:pořádá SDH – sál Sokolovny
URL:https://www.sokollibis.cz/kalendar/hasicsky-ctyrboj-2/
END:VEVENT
BEGIN:VEVENT
DTSTART;TZID=Europe/Prague:20231125T080000
DTEND;TZID=Europe/Prague:20231125T160000
DTSTAMP:20260423T233315
CREATED:20230910T182208Z
LAST-MODIFIED:20230910T182212Z
UID:10446-1700899200-1700928000@www.sokollibis.cz
SUMMARY:Coerver licence Intro
DESCRIPTION:Trenérský kurz Coerver fotbal
URL:https://www.sokollibis.cz/kalendar/coerver-licence-intro/
END:VEVENT
BEGIN:VEVENT
DTSTART;TZID=Europe/Prague:20231111T100000
DTEND;TZID=Europe/Prague:20231111T120000
DTSTAMP:20260423T233315
CREATED:20230710T104706Z
LAST-MODIFIED:20230710T104710Z
UID:9948-1699696800-1699704000@www.sokollibis.cz
SUMMARY:TJ Sokol Libiš "dorost" - TJ Straky
DESCRIPTION:1. A třída dorostu U19 sk. B – 2. kolo
URL:https://www.sokollibis.cz/kalendar/tj-sokol-libis-dorost-tj-straky/
END:VEVENT
BEGIN:VEVENT
DTSTART;TZID=Europe/Prague:20231111T093000
DTEND;TZID=Europe/Prague:20231111T093000
DTSTAMP:20260423T233315
CREATED:20240110T113704Z
LAST-MODIFIED:20240110T113704Z
UID:11077-1699695000-1699695000@www.sokollibis.cz
SUMMARY:TJ Sokol Libiš : Straky + Struhy
DESCRIPTION:1. A třída dorostu U19 sk. B
URL:https://www.sokollibis.cz/kalendar/tj-sokol-libis-straky-struhy/
END:VEVENT
BEGIN:VEVENT
DTSTART;TZID=Europe/Prague:20231105T130000
DTEND;TZID=Europe/Prague:20231105T150000
DTSTAMP:20260423T233315
CREATED:20230821T183130Z
LAST-MODIFIED:20230821T183134Z
UID:10273-1699189200-1699196400@www.sokollibis.cz
SUMMARY:TJ Sokol Libiš "mladší žáci" - SK Labský Kostelec
DESCRIPTION:Okresní přebor\, skupina A
URL:https://www.sokollibis.cz/kalendar/tj-sokol-libis-mladsi-zaci-sk-labsky-kostelec/
END:VEVENT
BEGIN:VEVENT
DTSTART;TZID=Europe/Prague:20231105T090000
DTEND;TZID=Europe/Prague:20231105T110000
DTSTAMP:20260423T233315
CREATED:20230821T182458Z
LAST-MODIFIED:20230821T182502Z
UID:10265-1699174800-1699182000@www.sokollibis.cz
SUMMARY:TJ Sokol Libiš "starší žáci" - FC Lobkovice
DESCRIPTION:Okresní přebor\, skupina A
URL:https://www.sokollibis.cz/kalendar/tj-sokol-libis-starsi-zaci-fc-lobkovice/
END:VEVENT
END:VCALENDAR