BEGIN:VCALENDAR
VERSION:2.0
PRODID:-//Tělovýchovná jednota Sokol Libiš, z.s. - ECPv6.15.20//NONSGML v1.0//EN
CALSCALE:GREGORIAN
METHOD:PUBLISH
X-WR-CALNAME:Tělovýchovná jednota Sokol Libiš, z.s.
X-ORIGINAL-URL:https://www.sokollibis.cz
X-WR-CALDESC:Akce na Tělovýchovná jednota Sokol Libiš, z.s.
REFRESH-INTERVAL;VALUE=DURATION:PT1H
X-Robots-Tag:noindex
X-PUBLISHED-TTL:PT1H
BEGIN:VTIMEZONE
TZID:Europe/Prague
BEGIN:DAYLIGHT
TZOFFSETFROM:+0100
TZOFFSETTO:+0200
TZNAME:CEST
DTSTART:20220327T010000
END:DAYLIGHT
BEGIN:STANDARD
TZOFFSETFROM:+0200
TZOFFSETTO:+0100
TZNAME:CET
DTSTART:20221030T010000
END:STANDARD
BEGIN:DAYLIGHT
TZOFFSETFROM:+0100
TZOFFSETTO:+0200
TZNAME:CEST
DTSTART:20230326T010000
END:DAYLIGHT
BEGIN:STANDARD
TZOFFSETFROM:+0200
TZOFFSETTO:+0100
TZNAME:CET
DTSTART:20231029T010000
END:STANDARD
BEGIN:DAYLIGHT
TZOFFSETFROM:+0100
TZOFFSETTO:+0200
TZNAME:CEST
DTSTART:20240331T010000
END:DAYLIGHT
BEGIN:STANDARD
TZOFFSETFROM:+0200
TZOFFSETTO:+0100
TZNAME:CET
DTSTART:20241027T010000
END:STANDARD
END:VTIMEZONE
BEGIN:VEVENT
DTSTART;TZID=Europe/Prague:20230923T100000
DTEND;TZID=Europe/Prague:20230923T100000
DTSTAMP:20260424T010401
CREATED:20240110T113701Z
LAST-MODIFIED:20240110T113701Z
UID:11074-1695463200-1695463200@www.sokollibis.cz
SUMMARY:TJ Sokol Libiš : Mnichovohradišťský SK
DESCRIPTION:1. A třída dorostu U19 sk. B
URL:https://www.sokollibis.cz/kalendar/tj-sokol-libis-mnichovohradistsky-sk-2/
END:VEVENT
BEGIN:VEVENT
DTSTART;TZID=Europe/Prague:20230923T090000
DTEND;TZID=Europe/Prague:20230925T180000
DTSTAMP:20260424T010401
CREATED:20230721T190853Z
LAST-MODIFIED:20230721T190858Z
UID:10116-1695459600-1695664800@www.sokollibis.cz
SUMMARY:Memoriál Václava Koželuha - Starší žáci
DESCRIPTION:turnaj v tenise
URL:https://www.sokollibis.cz/kalendar/memorial-vaclava-kozeluha-starsi-zaci/
END:VEVENT
BEGIN:VEVENT
DTSTART;TZID=Europe/Prague:20230916T143000
DTEND;TZID=Europe/Prague:20230916T163000
DTSTAMP:20260424T010401
CREATED:20230717T084004Z
LAST-MODIFIED:20230717T084008Z
UID:10069-1694874600-1694881800@www.sokollibis.cz
SUMMARY:Libiš "B" - TJ Sokol Čečelice
DESCRIPTION:SportFotbal Okresní přebor Mělník – 5. kolo
URL:https://www.sokollibis.cz/kalendar/libis-b-tj-sokol-cecelice/
END:VEVENT
BEGIN:VEVENT
DTSTART;TZID=Europe/Prague:20230916T101500
DTEND;TZID=Europe/Prague:20230916T120000
DTSTAMP:20260424T010401
CREATED:20230710T103131Z
LAST-MODIFIED:20230710T103137Z
UID:9928-1694859300-1694865600@www.sokollibis.cz
SUMMARY:TJ Sokol Libiš "A" - Mnichovohradišťský SK
DESCRIPTION:HDT.cz Krajský Přebor – 7. kolo
URL:https://www.sokollibis.cz/kalendar/tj-sokol-libis-a-mnichovohradistsky-sk/
END:VEVENT
BEGIN:VEVENT
DTSTART;TZID=Europe/Prague:20230916T090000
DTEND;TZID=Europe/Prague:20230918T180000
DTSTAMP:20260424T010401
CREATED:20230721T190427Z
LAST-MODIFIED:20230721T190737Z
UID:10110-1694854800-1695060000@www.sokollibis.cz
SUMMARY:Memoriál Václava Koželuha - Mladší žákyně
DESCRIPTION:turnaj v tenise
URL:https://www.sokollibis.cz/kalendar/memorial-vaclava-kozeluha-2/
END:VEVENT
BEGIN:VEVENT
DTSTART;TZID=Europe/Prague:20230910T130000
DTEND;TZID=Europe/Prague:20230910T150000
DTSTAMP:20260424T010401
CREATED:20230821T182842Z
LAST-MODIFIED:20230821T182846Z
UID:10269-1694350800-1694358000@www.sokollibis.cz
SUMMARY:TJ Sokol Libiš "mladší žáci" - TJ Řepín
DESCRIPTION:Okresní přebor\, skupina A
URL:https://www.sokollibis.cz/kalendar/tj-sokol-libis-mladsi-zaci-tj-repin/
END:VEVENT
BEGIN:VEVENT
DTSTART;TZID=Europe/Prague:20230910T090000
DTEND;TZID=Europe/Prague:20230910T110000
DTSTAMP:20260424T010401
CREATED:20230821T181653Z
LAST-MODIFIED:20230821T181808Z
UID:10256-1694336400-1694343600@www.sokollibis.cz
SUMMARY:TJ Sokol Libiš "starší žáci" - TJ Záryby
DESCRIPTION:Okresní přebor\, skupina A
URL:https://www.sokollibis.cz/kalendar/tj-sokol-libis-starsi-zaci-tj-zaryby/
END:VEVENT
BEGIN:VEVENT
DTSTART;TZID=Europe/Prague:20230909T100000
DTEND;TZID=Europe/Prague:20230909T120000
DTSTAMP:20260424T010401
CREATED:20230710T104357Z
LAST-MODIFIED:20230710T104401Z
UID:9940-1694253600-1694260800@www.sokollibis.cz
SUMMARY:TJ Sokol Libiš "dorost" - FC Sporting Mladá Boleslav
DESCRIPTION:1. A třída dorostu U19 sk. B – 6. kolo
URL:https://www.sokollibis.cz/kalendar/tj-sokol-libis-dorost-fc-sporting-mlada-boleslav/
END:VEVENT
BEGIN:VEVENT
DTSTART;TZID=Europe/Prague:20230909T100000
DTEND;TZID=Europe/Prague:20230909T100000
DTSTAMP:20260424T010401
CREATED:20240110T113701Z
LAST-MODIFIED:20240110T113701Z
UID:11073-1694253600-1694253600@www.sokollibis.cz
SUMMARY:TJ Sokol Libiš : Sporting MB + Dl. Lhota
DESCRIPTION:1. A třída dorostu U19 sk. B
URL:https://www.sokollibis.cz/kalendar/tj-sokol-libis-sporting-mb-dl-lhota/
END:VEVENT
BEGIN:VEVENT
DTSTART;TZID=Europe/Prague:20230909T090000
DTEND;TZID=Europe/Prague:20230911T180000
DTSTAMP:20260424T010401
CREATED:20230721T190155Z
LAST-MODIFIED:20230721T190659Z
UID:10108-1694250000-1694455200@www.sokollibis.cz
SUMMARY:Memoriál Václava Koželuha - Mladší žáci
DESCRIPTION:turnaj v tenise
URL:https://www.sokollibis.cz/kalendar/memorial-vaclava-kozeluha/
END:VEVENT
BEGIN:VEVENT
DTSTART;TZID=Europe/Prague:20230903T130000
DTEND;TZID=Europe/Prague:20230903T150000
DTSTAMP:20260424T010401
CREATED:20230821T182716Z
LAST-MODIFIED:20230821T182720Z
UID:10267-1693746000-1693753200@www.sokollibis.cz
SUMMARY:TJ Sokol Libiš "mladší žáci" - FK Vysoká
DESCRIPTION:Okresní přebor\, skupina A
URL:https://www.sokollibis.cz/kalendar/tj-sokol-libis-mladsi-zaci-fk-vysoka/
END:VEVENT
BEGIN:VEVENT
DTSTART;TZID=Europe/Prague:20230902T143000
DTEND;TZID=Europe/Prague:20230902T163000
DTSTAMP:20260424T010401
CREATED:20230717T083923Z
LAST-MODIFIED:20230717T083926Z
UID:10067-1693665000-1693672200@www.sokollibis.cz
SUMMARY:Libiš "B" - TJ Řepín
DESCRIPTION:SportFotbal Okresní přebor Mělník – 3. kolo
URL:https://www.sokollibis.cz/kalendar/libis-b-tj-repin/
END:VEVENT
BEGIN:VEVENT
DTSTART;TZID=Europe/Prague:20230902T101500
DTEND;TZID=Europe/Prague:20230902T120000
DTSTAMP:20260424T010401
CREATED:20230710T103036Z
LAST-MODIFIED:20230710T103040Z
UID:9926-1693649700-1693656000@www.sokollibis.cz
SUMMARY:TJ Sokol Libiš "A" - SK Doksy
DESCRIPTION:HDT.cz Krajský Přebor – 5. kolo
URL:https://www.sokollibis.cz/kalendar/tj-sokol-libis-a-sk-doksy/
END:VEVENT
BEGIN:VEVENT
DTSTART;TZID=Europe/Prague:20230902T090000
DTEND;TZID=Europe/Prague:20230904T180000
DTSTAMP:20260424T010401
CREATED:20230721T191106Z
LAST-MODIFIED:20230721T191110Z
UID:10118-1693645200-1693850400@www.sokollibis.cz
SUMMARY:Memoriál Václava Koželuha - Starší žákyně
DESCRIPTION:turnaj v tenise
URL:https://www.sokollibis.cz/kalendar/memorial-vaclava-kozeluha-starsi-zakyne/
END:VEVENT
BEGIN:VEVENT
DTSTART;TZID=Europe/Prague:20230830T173000
DTEND;TZID=Europe/Prague:20230830T193000
DTSTAMP:20260424T010401
CREATED:20230710T102840Z
LAST-MODIFIED:20230710T102844Z
UID:9924-1693416600-1693423800@www.sokollibis.cz
SUMMARY:TJ Sokol Libiš "A" - SK Chlumec
DESCRIPTION:HDT.cz Krajský Přebor – 1. kolo
URL:https://www.sokollibis.cz/kalendar/tj-sokol-libis-a-sk-chlumec/
END:VEVENT
BEGIN:VEVENT
DTSTART;TZID=Europe/Prague:20230827T150000
DTEND;TZID=Europe/Prague:20230827T180000
DTSTAMP:20260424T010401
CREATED:20230717T080825Z
LAST-MODIFIED:20230825T092856Z
UID:10057-1693148400-1693159200@www.sokollibis.cz
SUMMARY:Retročaje  - termín zrušen!
DESCRIPTION:Z důvodu lakování podlahy v tělocvičně.
URL:https://www.sokollibis.cz/kalendar/retrocaje-2/
LOCATION:TJ Sokol Libiš – tělocvična (sokolovna)\, Školní 492/6\, Libiš\, Vyberte prosím stát\, 27711\, Česká republika
END:VEVENT
BEGIN:VEVENT
DTSTART;TZID=Europe/Prague:20230827T090000
DTEND;TZID=Europe/Prague:20230827T110000
DTSTAMP:20260424T010401
CREATED:20230821T181331Z
LAST-MODIFIED:20230821T181949Z
UID:10253-1693126800-1693134000@www.sokollibis.cz
SUMMARY:TJ Sokol Libiš "starší žáci" - TJ Byšice
DESCRIPTION:Okresní přebor\, skupina A
URL:https://www.sokollibis.cz/kalendar/tj-sokol-libis-starsi-zaci-tj-bysice/
END:VEVENT
BEGIN:VEVENT
DTSTART;TZID=Europe/Prague:20230826T100000
DTEND;TZID=Europe/Prague:20230826T210000
DTSTAMP:20260424T010401
CREATED:20230802T080941Z
LAST-MODIFIED:20230825T093014Z
UID:10128-1693044000-1693083600@www.sokollibis.cz
SUMMARY:Beach turnaj SDH
DESCRIPTION:Volně přístupný turnaj 3členných týmů
URL:https://www.sokollibis.cz/kalendar/beach-turnaj-sdh/
LOCATION:TJ Sokol Libiš – tráva\, Školní 492\, Libiš\, 27711\, Česká republika
ATTACH;FMTTYPE=image/jpeg:https://www.sokollibis.cz/wp-content/uploads/2023/08/Beach-SDH-2023.jpg
END:VEVENT
BEGIN:VEVENT
DTSTART;TZID=Europe/Prague:20230826T100000
DTEND;TZID=Europe/Prague:20230826T120000
DTSTAMP:20260424T010401
CREATED:20230710T104316Z
LAST-MODIFIED:20230825T092823Z
UID:9938-1693044000-1693051200@www.sokollibis.cz
SUMMARY:TJ Sokol Libiš "dorost" - FK Dobrovice
DESCRIPTION:1. A třída dorostu U19 sk. B – 4. kolo
URL:https://www.sokollibis.cz/kalendar/tj-sokol-libis-dorost-fk-dobrovice/
LOCATION:TJ Sokol Libiš – tráva\, Školní 492\, Libiš\, 27711\, Česká republika
END:VEVENT
BEGIN:VEVENT
DTSTART;TZID=Europe/Prague:20230826T100000
DTEND;TZID=Europe/Prague:20230826T100000
DTSTAMP:20260424T010401
CREATED:20240110T113701Z
LAST-MODIFIED:20240110T113701Z
UID:11072-1693044000-1693044000@www.sokollibis.cz
SUMMARY:TJ Sokol Libiš : FK Dobrovice
DESCRIPTION:1. A třída dorostu U19 sk. B
URL:https://www.sokollibis.cz/kalendar/tj-sokol-libis-fk-dobrovice-2/
END:VEVENT
BEGIN:VEVENT
DTSTART;TZID=Europe/Prague:20230821T090000
DTEND;TZID=Europe/Prague:20230825T160000
DTSTAMP:20260424T010401
CREATED:20230717T074955Z
LAST-MODIFIED:20230717T074959Z
UID:10050-1692608400-1692979200@www.sokollibis.cz
SUMMARY:Tenisový kemp
DESCRIPTION:Příměstská denní forma 9-16hodin. Kemp organizuje tenisová škola pod vedením Nikoly Bendlové a Mirky Bendlové\, ve spolupráci s Ondřejem Stuchlíkem.
URL:https://www.sokollibis.cz/kalendar/tenisovy-kemp-3/
END:VEVENT
BEGIN:VEVENT
DTSTART;TZID=Europe/Prague:20230819T143000
DTEND;TZID=Europe/Prague:20230819T163000
DTSTAMP:20260424T010401
CREATED:20230717T083844Z
LAST-MODIFIED:20230717T083848Z
UID:10065-1692455400-1692462600@www.sokollibis.cz
SUMMARY:Libiš "B" - SK Mšeno
DESCRIPTION:SportFotbal Okresní přebor Mělník – 1. kolo
URL:https://www.sokollibis.cz/kalendar/libis-b-sk-mseno/
END:VEVENT
BEGIN:VEVENT
DTSTART;TZID=Europe/Prague:20230819T101500
DTEND;TZID=Europe/Prague:20230819T120000
DTSTAMP:20260424T010401
CREATED:20230710T102732Z
LAST-MODIFIED:20230710T102737Z
UID:9922-1692440100-1692446400@www.sokollibis.cz
SUMMARY:TJ Sokol Libiš "A" - SK Sokoleč
DESCRIPTION:HDT.cz Krajský Přebor – 3. kolo
URL:https://www.sokollibis.cz/kalendar/tj-sokol-libis-a-sk-sokolec/
END:VEVENT
BEGIN:VEVENT
DTSTART;TZID=Europe/Prague:20230731T090000
DTEND;TZID=Europe/Prague:20230804T160000
DTSTAMP:20260424T010401
CREATED:20230717T074741Z
LAST-MODIFIED:20230717T074744Z
UID:10048-1690794000-1691164800@www.sokollibis.cz
SUMMARY:Tenisový kemp
DESCRIPTION:Příměstská denní forma 9-16hodin.  Kemp organizuje tenisová škola pod vedením Nikoly Bendlové a Mirky Bendlové\, ve spolupráci s Ondřejem Stuchlíkem.
URL:https://www.sokollibis.cz/kalendar/tenisovy-kemp-2/
END:VEVENT
BEGIN:VEVENT
DTSTART;TZID=Europe/Prague:20230730T150000
DTEND;TZID=Europe/Prague:20230730T180000
DTSTAMP:20260424T010401
CREATED:20230717T080603Z
LAST-MODIFIED:20230717T080607Z
UID:10053-1690729200-1690740000@www.sokollibis.cz
SUMMARY:Retročaje
DESCRIPTION:
URL:https://www.sokollibis.cz/kalendar/retrocaje/
ATTACH;FMTTYPE=image/jpeg:https://www.sokollibis.cz/wp-content/uploads/2023/07/LIBIS-7-30.jpg
END:VEVENT
BEGIN:VEVENT
DTSTART;TZID=Europe/Prague:20230717T090000
DTEND;TZID=Europe/Prague:20230721T160000
DTSTAMP:20260424T010401
CREATED:20230717T074407Z
LAST-MODIFIED:20230717T074844Z
UID:10045-1689584400-1689955200@www.sokollibis.cz
SUMMARY:Tenisový kemp
DESCRIPTION:Příměstská denní forma 9-16hodin.  Kemp organizuje tenisová škola pod vedením Nikoly Bendlové a Mirky Bendlové\, ve spolupráci s Ondřejem Stuchlíkem.
URL:https://www.sokollibis.cz/kalendar/tenisovy-kemp/
END:VEVENT
BEGIN:VEVENT
DTSTART;TZID=Europe/Prague:20230625T150000
DTEND;TZID=Europe/Prague:20230625T180000
DTSTAMP:20260424T010401
CREATED:20221220T181431Z
LAST-MODIFIED:20221220T181434Z
UID:8399-1687705200-1687716000@www.sokollibis.cz
SUMMARY:RETRO ČAJE
DESCRIPTION:
URL:https://www.sokollibis.cz/kalendar/retro-caje-7/
END:VEVENT
BEGIN:VEVENT
DTSTART;TZID=Europe/Prague:20230617T100000
DTEND;TZID=Europe/Prague:20230617T220000
DTSTAMP:20260424T010401
CREATED:20230328T161157Z
LAST-MODIFIED:20230530T132747Z
UID:9337-1686996000-1687039200@www.sokollibis.cz
SUMMARY:Libiš 700 let
DESCRIPTION:oslava k výročí první písemné zmínky o obci                                      _(venku i uvnitř) od 12:00 v prostorách SOKOL Libiš
URL:https://www.sokollibis.cz/kalendar/libis-700-let/
ATTACH;FMTTYPE=image/jpeg:https://www.sokollibis.cz/wp-content/uploads/2023/03/plakat_A2_Libis_700nahled-rotated.jpg
END:VEVENT
BEGIN:VEVENT
DTSTART;TZID=Europe/Prague:20230616T180000
DTEND;TZID=Europe/Prague:20230616T200000
DTSTAMP:20260424T010401
CREATED:20230207T121033Z
LAST-MODIFIED:20230529T110824Z
UID:8770-1686938400-1686945600@www.sokollibis.cz
SUMMARY:Libiš dorost - SK Bakov n/J
DESCRIPTION:14. kolo – I.A třída staršího dorostu U19 – skupina B
URL:https://www.sokollibis.cz/kalendar/libis-dorost-sk-bakov-n-j/
END:VEVENT
BEGIN:VEVENT
DTSTART;TZID=Europe/Prague:20230614T180000
DTEND;TZID=Europe/Prague:20230614T200000
DTSTAMP:20260424T010401
CREATED:20230116T100739Z
LAST-MODIFIED:20230531T060507Z
UID:8594-1686765600-1686772800@www.sokollibis.cz
SUMMARY:Libiš B - Pšovka B
DESCRIPTION:14. kolo Okresního přeboru
URL:https://www.sokollibis.cz/kalendar/libis-b-psovka-b/
LOCATION:TJ Sokol Libiš – tráva\, Školní 492\, Libiš\, 27711\, Česká republika
END:VEVENT
END:VCALENDAR