BEGIN:VCALENDAR
VERSION:2.0
PRODID:-//Tělovýchovná jednota Sokol Libiš, z.s. - ECPv6.15.20//NONSGML v1.0//EN
CALSCALE:GREGORIAN
METHOD:PUBLISH
X-WR-CALNAME:Tělovýchovná jednota Sokol Libiš, z.s.
X-ORIGINAL-URL:https://www.sokollibis.cz
X-WR-CALDESC:Akce na Tělovýchovná jednota Sokol Libiš, z.s.
REFRESH-INTERVAL;VALUE=DURATION:PT1H
X-Robots-Tag:noindex
X-PUBLISHED-TTL:PT1H
BEGIN:VTIMEZONE
TZID:Europe/Prague
BEGIN:DAYLIGHT
TZOFFSETFROM:+0100
TZOFFSETTO:+0200
TZNAME:CEST
DTSTART:20210328T010000
END:DAYLIGHT
BEGIN:STANDARD
TZOFFSETFROM:+0200
TZOFFSETTO:+0100
TZNAME:CET
DTSTART:20211031T010000
END:STANDARD
BEGIN:DAYLIGHT
TZOFFSETFROM:+0100
TZOFFSETTO:+0200
TZNAME:CEST
DTSTART:20220327T010000
END:DAYLIGHT
BEGIN:STANDARD
TZOFFSETFROM:+0200
TZOFFSETTO:+0100
TZNAME:CET
DTSTART:20221030T010000
END:STANDARD
BEGIN:DAYLIGHT
TZOFFSETFROM:+0100
TZOFFSETTO:+0200
TZNAME:CEST
DTSTART:20230326T010000
END:DAYLIGHT
BEGIN:STANDARD
TZOFFSETFROM:+0200
TZOFFSETTO:+0100
TZNAME:CET
DTSTART:20231029T010000
END:STANDARD
END:VTIMEZONE
BEGIN:VEVENT
DTSTART;TZID=Europe/Prague:20220806T101500
DTEND;TZID=Europe/Prague:20220806T120000
DTSTAMP:20260424T033748
CREATED:20220801T150801Z
LAST-MODIFIED:20220801T150805Z
UID:7752-1659780900-1659787200@www.sokollibis.cz
SUMMARY:TJ Sokol Libiš - FK Meteor Praha VIII
DESCRIPTION:Fortuna DIVIZE\, sk.B – 1.kolo
URL:https://www.sokollibis.cz/kalendar/tj-sokol-libis-fk-meteor-praha-viii/
END:VEVENT
BEGIN:VEVENT
DTSTART;TZID=Europe/Prague:20220803T180000
DTEND;TZID=Europe/Prague:20220803T200000
DTSTAMP:20260424T033748
CREATED:20220801T150532Z
LAST-MODIFIED:20220801T150535Z
UID:7750-1659549600-1659556800@www.sokollibis.cz
SUMMARY:TJ Sokol Libiš - SK Sparta Kolín
DESCRIPTION:Předkolo MOL Cupu
URL:https://www.sokollibis.cz/kalendar/tj-sokol-libis-sk-sparta-kolin-2/
END:VEVENT
BEGIN:VEVENT
DTSTART;TZID=Europe/Prague:20220618T170000
DTEND;TZID=Europe/Prague:20220618T190000
DTSTAMP:20260424T033748
CREATED:20220525T120717Z
LAST-MODIFIED:20220525T120722Z
UID:7247-1655571600-1655578800@www.sokollibis.cz
SUMMARY:TJ Sokol Libiš "B" - TJ Slovan Horní Beřkovice
DESCRIPTION:26. kolo Okresního přeboru\, vstupné dobrovolné.
URL:https://www.sokollibis.cz/kalendar/tj-sokol-libis-b-tj-slovan-horni-berkovice/
LOCATION:TJ Sokol Libiš – tráva\, Školní 492\, Libiš\, 27711\, Česká republika
END:VEVENT
BEGIN:VEVENT
DTSTART;TZID=Europe/Prague:20220618T101500
DTEND;TZID=Europe/Prague:20220618T120000
DTSTAMP:20260424T033748
CREATED:20220525T121138Z
LAST-MODIFIED:20220525T121219Z
UID:7251-1655547300-1655553600@www.sokollibis.cz
SUMMARY:TJ Sokol Libiš - MFK Trutnov
DESCRIPTION:30. kolo Divize\, skupina C
URL:https://www.sokollibis.cz/kalendar/tj-sokol-libis-mfk-trutnov/
LOCATION:TJ Sokol Libiš – tráva\, Školní 492\, Libiš\, 27711\, Česká republika
END:VEVENT
BEGIN:VEVENT
DTSTART;TZID=Europe/Prague:20220617T190000
DTEND;TZID=Europe/Prague:20220617T230000
DTSTAMP:20260424T033748
CREATED:20220614T124735Z
LAST-MODIFIED:20220614T183225Z
UID:7409-1655492400-1655506800@www.sokollibis.cz
SUMMARY:Žízeň
DESCRIPTION:
URL:https://www.sokollibis.cz/kalendar/zizen/
ATTACH;FMTTYPE=image/png:https://www.sokollibis.cz/wp-content/uploads/2022/06/Hriste-17-6-22.png
END:VEVENT
BEGIN:VEVENT
DTSTART;TZID=Europe/Prague:20220611T123000
DTEND;TZID=Europe/Prague:20220611T140000
DTSTAMP:20260424T033748
CREATED:20220525T121853Z
LAST-MODIFIED:20220525T121856Z
UID:7261-1654950600-1654956000@www.sokollibis.cz
SUMMARY:TJ Sokol Libiš U17 - TJ Baník Švermov U17
DESCRIPTION:5. kolo nadstavby o 9. až 12. místo Krajského přeboru mladšího dorostu
URL:https://www.sokollibis.cz/kalendar/tj-sokol-libis-u17-tj-banik-svermov-u17/
LOCATION:TJ Sokol Libiš – tráva\, Školní 492\, Libiš\, 27711\, Česká republika
END:VEVENT
BEGIN:VEVENT
DTSTART;TZID=Europe/Prague:20220611T101500
DTEND;TZID=Europe/Prague:20220611T120000
DTSTAMP:20260424T033748
CREATED:20220525T121622Z
LAST-MODIFIED:20220525T121626Z
UID:7257-1654942500-1654948800@www.sokollibis.cz
SUMMARY:TJ Sokol Libiš U19 - TJ Baník Švermov U19
DESCRIPTION:5. kolo nadstavby o 9. až 12. místo Krajského přeboru staršího dorostu
URL:https://www.sokollibis.cz/kalendar/tj-sokol-libis-u19-tj-banik-svermov-u19/
LOCATION:TJ Sokol Libiš – tráva\, Školní 492\, Libiš\, 27711\, Česká republika
END:VEVENT
BEGIN:VEVENT
DTSTART;TZID=Europe/Prague:20220605T123000
DTEND;TZID=Europe/Prague:20220605T140000
DTSTAMP:20260424T033748
CREATED:20220525T121750Z
LAST-MODIFIED:20220525T121754Z
UID:7259-1654432200-1654437600@www.sokollibis.cz
SUMMARY:TJ Sokol Libiš U17 - FK Pšovka Mělník U17
DESCRIPTION:4. kolo nadstavby o 9. až 12. místo Krajského přeboru mladšího dorostu
URL:https://www.sokollibis.cz/kalendar/tj-sokol-libis-u17-fk-psovka-melnik-u17/
LOCATION:TJ Sokol Libiš – tráva\, Školní 492\, Libiš\, 27711\, Česká republika
END:VEVENT
BEGIN:VEVENT
DTSTART;TZID=Europe/Prague:20220605T101500
DTEND;TZID=Europe/Prague:20220605T120000
DTSTAMP:20260424T033748
CREATED:20220525T121512Z
LAST-MODIFIED:20220525T121515Z
UID:7255-1654424100-1654430400@www.sokollibis.cz
SUMMARY:TJ Sokol Libiš U19 - FK Pšovka Mělník U19
DESCRIPTION:4. kolo nadstavby o 9. až 12. místo Krajského přeboru staršího dorostu
URL:https://www.sokollibis.cz/kalendar/tj-sokol-libis-u19-fk-psovka-melnik-u19/
LOCATION:TJ Sokol Libiš – tráva\, Školní 492\, Libiš\, 27711\, Česká republika
END:VEVENT
BEGIN:VEVENT
DTSTART;TZID=Europe/Prague:20220604T170000
DTEND;TZID=Europe/Prague:20220604T190000
DTSTAMP:20260424T033748
CREATED:20220525T120614Z
LAST-MODIFIED:20220525T120617Z
UID:7245-1654362000-1654369200@www.sokollibis.cz
SUMMARY:TJ Sokol Libiš "B" - SK Vojkovice
DESCRIPTION:24. kolo Okresního přeboru\, vstupné dobrovolné.
URL:https://www.sokollibis.cz/kalendar/tj-sokol-libis-b-sk-vojkovice/
END:VEVENT
BEGIN:VEVENT
DTSTART;TZID=Europe/Prague:20220604T101500
DTEND;TZID=Europe/Prague:20220604T233000
DTSTAMP:20260424T033748
CREATED:20220525T133618Z
LAST-MODIFIED:20220525T134733Z
UID:7276-1654337700-1654385400@www.sokollibis.cz
SUMMARY:Oslavy k 90. výročí založení FK Libiš
DESCRIPTION:TJ Sokol Libiš\, oddíl kopané\, za podpory obce Libiš pořádá v sobotu 4. června 2022 na hřišti TJ Sokol Libiš oslavy k 90. výročí založení FK Libiš.  \n\n\n\nProgram:\n\n\n\n10:15 Libiš A – FK Tochovice\, divize C\, mistrovské utkání14:00 Internacionálové ČR – Libiš stará garda15:30 Exhibiční zápas přípravek Libiše17:00 Libiš B – SK Vojkovice\, Okresní přebor mistrovské utkání\n\n\n\nCelodenní vstupné 100 Kč\, děti zdarma. Slosovatelné vstupenky o zajímavé ceny. \n\n\n\nK tanci a poslechu zahraje Jaroslav Rytíř v rámci závěrečné oslavy s hudbou.
URL:https://www.sokollibis.cz/kalendar/oslavy-k-90-vyroci-zalozeni-fk-libis/
LOCATION:TJ Sokol Libiš – tráva\, Školní 492\, Libiš\, 27711\, Česká republika
END:VEVENT
BEGIN:VEVENT
DTSTART;TZID=Europe/Prague:20220604T101500
DTEND;TZID=Europe/Prague:20220604T120000
DTSTAMP:20260424T033748
CREATED:20220525T121005Z
LAST-MODIFIED:20220525T121008Z
UID:7249-1654337700-1654344000@www.sokollibis.cz
SUMMARY:TJ Sokol Libiš - SK Tochovice
DESCRIPTION:28. kolo Divize\, skupina C
URL:https://www.sokollibis.cz/kalendar/tj-sokol-libis-sk-tochovice/
LOCATION:TJ Sokol Libiš – tráva\, Školní 492\, Libiš\, 27711\, Česká republika
END:VEVENT
BEGIN:VEVENT
DTSTART;TZID=Europe/Prague:20220528T140000
DTEND;TZID=Europe/Prague:20220528T213000
DTSTAMP:20260424T033748
CREATED:20220524T130913Z
LAST-MODIFIED:20220527T100137Z
UID:7162-1653746400-1653773400@www.sokollibis.cz
SUMMARY:Dětský den 2022
DESCRIPTION:TJ Sokol Libiš ve spolupráci s obcí Libiš zvou na dětský den\, vstupné dobrovolné.
URL:https://www.sokollibis.cz/kalendar/detsky-den-2022/
ATTACH;FMTTYPE=image/png:https://www.sokollibis.cz/wp-content/uploads/2022/05/detsky-den-libis-a2-nasirku-2022.png
END:VEVENT
BEGIN:VEVENT
DTSTART;TZID=Europe/Prague:20220528T111500
DTEND;TZID=Europe/Prague:20220528T130000
DTSTAMP:20260424T033748
CREATED:20220524T151313Z
LAST-MODIFIED:20220527T100032Z
UID:7211-1653736500-1653742800@www.sokollibis.cz
SUMMARY:TJ Sokol Libiš dorost U17 - TJ Kunice U17
DESCRIPTION:3. kolo nadstavby Krajského přeboru mladšího dorostu – skupina 3
URL:https://www.sokollibis.cz/kalendar/7211/
LOCATION:TJ Sokol Libiš – tráva\, Školní 492\, Libiš\, 27711\, Česká republika
END:VEVENT
BEGIN:VEVENT
DTSTART;TZID=Europe/Prague:20220528T090000
DTEND;TZID=Europe/Prague:20220528T110000
DTSTAMP:20260424T033748
CREATED:20220524T150945Z
LAST-MODIFIED:20220527T100002Z
UID:7208-1653728400-1653735600@www.sokollibis.cz
SUMMARY:TJ Sokol Libiš dorost U19 - TJ Kunice U19
DESCRIPTION:3. kolo nadstavby Krajského přeboru staršího dorostu – skupina o 9. – 12. místo
URL:https://www.sokollibis.cz/kalendar/tj-sokol-libis-dorost-u19-tj-kunice-u19/
LOCATION:TJ Sokol Libiš – tráva\, Školní 492\, Libiš\, 27711\, Česká republika
END:VEVENT
END:VCALENDAR